BEGIN:VCALENDAR
VERSION:2.0
PRODID:-//Children's Environmental Literacy Foundation - ECPv5.3.2.1//NONSGML v1.0//EN
CALSCALE:GREGORIAN
METHOD:PUBLISH
X-WR-CALNAME:Children's Environmental Literacy Foundation
X-ORIGINAL-URL:https://celfeducation.org
X-WR-CALDESC:Events for Children's Environmental Literacy Foundation
BEGIN:VTIMEZONE
TZID:America/New_York
BEGIN:DAYLIGHT
TZOFFSETFROM:-0500
TZOFFSETTO:-0400
TZNAME:EDT
DTSTART:20220313T070000
END:DAYLIGHT
BEGIN:STANDARD
TZOFFSETFROM:-0400
TZOFFSETTO:-0500
TZNAME:EST
DTSTART:20221106T060000
END:STANDARD
END:VTIMEZONE
BEGIN:VEVENT
DTSTART;TZID=America/New_York:20220706T080000
DTEND;TZID=America/New_York:20220706T153000
DTSTAMP:20260423T022256
CREATED:20220621T165126Z
LAST-MODIFIED:20220621T192533Z
UID:6483-1657094400-1657121400@celfeducation.org
SUMMARY:Going for the Green: Sustainable Schools Hosted at Ken-Ton
DESCRIPTION:This 2-day (14 hours) in-person institute will introduce Education for Sustainability within the context of your classroom and school. Join Buffalo-region school teachers and administrators to apply sustainability as a lens for learning to connect curriculum\, culture and community. Participants will use CELF’s Big Ideas of Sustainability to enhance teaching practices and engage in transdisciplinary systems thinking.
URL:https://celfeducation.org/event/going-for-the-green-sustainable-schools-hosted-at-ken-ton/2022-07-06/
LOCATION:Kenmore Middle School\, 155 Delaware Rd\, Buffalo\, NY\, 14217\, United States
CATEGORIES:Summer Institute
END:VEVENT
END:VCALENDAR